BEGIN:VCALENDAR
VERSION:2.0
PRODID:-//81.169.145.77//NONSGML kigkonsult.se iCalcreator 2.20//
CALSCALE:GREGORIAN
METHOD:PUBLISH
X-WR-TIMEZONE:UTC
BEGIN:VEVENT
UID:event414@PSV Senftenberg
DTSTAMP:20260420T013708Z
CATEGORIES:Turnier
DESCRIPTION:Spreewaldpokal Lübben\nKategorie: Turnier\nICS-Link: https://ww
 w.psv-senftenberg-judo.de/cms/index.php?option=com_jem&view=event&id=414:s
 preewaldpokal-luebben\n
DTSTART;VALUE=DATE:20240316
DTEND;VALUE=DATE:20240318
LOCATION:Lübben\,Lübben
SUMMARY:Spreewaldpokal Lübben
URL:https://www.psv-senftenberg-judo.de/cms/index.php?option=com_jem&view=e
 vent&id=414:spreewaldpokal-luebben
END:VEVENT
END:VCALENDAR
