BEGIN:VCALENDAR
VERSION:2.0
PRODID:-//81.169.145.77//NONSGML kigkonsult.se iCalcreator 2.20//
CALSCALE:GREGORIAN
METHOD:PUBLISH
X-WR-TIMEZONE:UTC
BEGIN:VEVENT
UID:event422@PSV Senftenberg
DTSTAMP:20260424T223758Z
CATEGORIES:Turnier
DESCRIPTION:Anfängerturnier Vetschau \nKategorie: Turnier\nICS-Link: https:
 //www.psv-senftenberg-judo.de/cms/index.php?option=com_jem&view=event&id=4
 22:anfaengerturnier-vetschau\n
DTSTART;VALUE=DATE:20240629
DTEND;VALUE=DATE:20240630
LOCATION:Vetschau\,Vetschau
SUMMARY:Anfängerturnier Vetschau 
URL:https://www.psv-senftenberg-judo.de/cms/index.php?option=com_jem&view=e
 vent&id=422:anfaengerturnier-vetschau
END:VEVENT
END:VCALENDAR
